OziExplorer Map Data File Version 2.2
N-34-096 Сокулка
C:\strorry\Maps\Genshtab_1k\n-34-096.ozfx3
1 ,Map Code,
Pulkovo 1942 (1),WGS 84, 0.0000, 0.0000,WGS 84
Reserved 1
Reserved 2
Magnetic Variation,,,E
Map Projection,Transverse Mercator,PolyCal,No,AutoCalOnly,No,BSBUseWPX,No
Point01,xy, 162, 235,in, deg, 53, 40.0000,N, 23, 30.0000,E, grid, , , ,N
Point02,xy, 4099, 236,in, deg, 53, 40.0000,N, 24, 0.0000,E, grid, , , ,N
Point03,xy, 4119, 4623,in, deg, 53, 20.0000,N, 24, 0.0000,E, grid, , , ,N
Point04,xy, 151, 4624,in, deg, 53, 20.0000,N, 23, 30.0000,E, grid, , , ,N
Point05,xy, 2132, 2433,in, deg, 53, 30.0000,N, 23, 45.0000,E, grid, , , ,N
Point06,xy, 2132, 237,in, deg, 53, 40.0000,N, 23, 45.0000,E, grid, , , ,N
Point07,xy, 157, 2431,in, deg, 53, 30.0000,N, 23, 30.0000,E, grid, , , ,N
Point08,xy, 4109, 2431,in, deg, 53, 30.0000,N, 24, 0.0000,E, grid, , , ,N
Point09,xy, 2135, 4625,in, deg, 53, 20.0000,N, 23, 45.0000,E, grid, , , ,N
Point10,xy, , ,in, deg, , ,N, , ,W, grid, , , ,N
Point11,xy, , ,in, deg, , ,N, , ,W, grid, , , ,N
Point12,xy, , ,in, deg, , ,N, , ,W, grid, , , ,N
Point13,xy, , ,in, deg, , ,N, , ,W, grid, , , ,N
Point14,xy, , ,in, deg, , ,N, , ,W, grid, , , ,N
Point15,xy, , ,in, deg, , ,N, , ,W, grid, , , ,N
Point16,xy, , ,in, deg, , ,N, , ,W, grid, , , ,N
Point17,xy, , ,in, deg, , ,N, , ,W, grid, , , ,N
Point18,xy, , ,in, deg, , ,N, , ,W, grid, , , ,N
Point19,xy, , ,in, deg, , ,N, , ,W, grid, , , ,N
Point20,xy, , ,in, deg, , ,N, , ,W, grid, , , ,N
Point21,xy, , ,in, deg, , ,N, , ,W, grid, , , ,N
Point22,xy, , ,in, deg, , ,N, , ,W, grid, , , ,N
Point23,xy, , ,in, deg, , ,N, , ,W, grid, , , ,N
Point24,xy, , ,in, deg, , ,N, , ,W, grid, , , ,N
Point25,xy, , ,in, deg, , ,N, , ,W, grid, , , ,N
Point26,xy, , ,in, deg, , ,N, , ,W, grid, , , ,N
Point27,xy, , ,in, deg, , ,N, , ,W, grid, , , ,N
Point28,xy, , ,in, deg, , ,N, , ,W, grid, , , ,N
Point29,xy, , ,in, deg, , ,N, , ,W, grid, , , ,N
Point30,xy, , ,in, deg, , ,N, , ,W, grid, , , ,N
Projection Setup, 0.000000000, 21.000000000, 1.000000000, 4500000.00, 0.00,,,,,
Map Feature = MF ; Map Comment = MC These follow if they exist
Track File = TF These follow if they exist
Moving Map Parameters = MM? These follow if they exist
MM0,Yes
MMPNUM,4
MMPXY,1,162,236
MMPXY,2,4099,236
MMPXY,3,4118,4623
MMPXY,4,153,4623
MMPLL,1,23.499940,53.666634
MMPLL,2,23.999963,53.666609
MMPLL,3,23.999899,53.333376
MMPLL,4,23.500257,53.333352
MM1B,8.388848
MOP,Map Open Position,0,0
IWH,Map Image Width/Height,4368,5066
