OziExplorer Map Data File Version 2.2
M-36-13 Припять
C:\strorry\Maps\Genshtab_1k\M-36-013.ozfx3
1 ,Map Code,
Pulkovo 1942 (1),WGS 84, 0.0000, 0.0000,WGS 84
Reserved 1
Reserved 2
Magnetic Variation,,,E
Map Projection,Transverse Mercator,PolyCal,No,AutoCalOnly,No,BSBUseWPX,No
Point01,xy, 100, 142,in, deg, 51, 40.0000,N, 30, 0.0000,E, grid, , , ,N
Point02,xy, 1123, 141,in, deg, 51, 40.0000,N, 30, 15.0000,E, grid, , , ,N
Point03,xy, 2146, 140,in, deg, 51, 40.0000,N, 30, 30.0000,E, grid, , , ,N
Point04,xy, 97, 1240,in, deg, 51, 30.0000,N, 30, 0.0000,E, grid, , , ,N
Point05,xy, 1124, 1241,in, deg, 51, 30.0000,N, 30, 15.0000,E, grid, , , ,N
Point06,xy, 2151, 1238,in, deg, 51, 30.0000,N, 30, 30.0000,E, grid, , , ,N
Point07,xy, 94, 2338,in, deg, 51, 20.0000,N, 30, 0.0000,E, grid, , , ,N
Point08,xy, 1125, 2337,in, deg, 51, 20.0000,N, 30, 15.0000,E, grid, , , ,N
Point09,xy, 2156, 2336,in, deg, 51, 20.0000,N, 30, 30.0000,E, grid, , , ,N
Point10,xy, , ,in, deg, , ,N, , ,E, grid, , , ,N
Point11,xy, , ,in, deg, , ,N, , ,E, grid, , , ,N
Point12,xy, , ,in, deg, , ,N, , ,E, grid, , , ,N
Point13,xy, , ,in, deg, , ,N, , ,E, grid, , , ,N
Point14,xy, , ,in, deg, , ,N, , ,E, grid, , , ,N
Point15,xy, , ,in, deg, , ,N, , ,E, grid, , , ,N
Point16,xy, , ,in, deg, , ,N, , ,E, grid, , , ,N
Point17,xy, , ,in, deg, , ,N, , ,E, grid, , , ,N
Point18,xy, , ,in, deg, , ,N, , ,E, grid, , , ,N
Point19,xy, , ,in, deg, , ,N, , ,E, grid, , , ,N
Point20,xy, , ,in, deg, , ,N, , ,E, grid, , , ,N
Point21,xy, , ,in, deg, , ,N, , ,E, grid, , , ,N
Point22,xy, , ,in, deg, , ,N, , ,E, grid, , , ,N
Point23,xy, , ,in, deg, , ,N, , ,E, grid, , , ,N
Point24,xy, , ,in, deg, , ,N, , ,E, grid, , , ,N
Point25,xy, , ,in, deg, , ,N, , ,E, grid, , , ,N
Point26,xy, , ,in, deg, , ,N, , ,E, grid, , , ,N
Point27,xy, , ,in, deg, , ,N, , ,E, grid, , , ,N
Point28,xy, , ,in, deg, , ,N, , ,E, grid, , , ,N
Point29,xy, , ,in, deg, , ,N, , ,E, grid, , , ,N
Point30,xy, , ,in, deg, , ,N, , ,E, grid, , , ,N
Projection Setup, 0.000000000, 33.000000000, 1.000000000, 6500000.00, 0.00,,,,,
Map Feature = MF ; Map Comment = MC These follow if they exist
Track File = TF These follow if they exist
Moving Map Parameters = MM? These follow if they exist
MM0,Yes
MMPNUM,4
MMPXY,1,100,142
MMPXY,2,2146,140
MMPXY,3,2156,2336
MMPXY,4,94,2338
MMPLL,1, 30.000000, 51.666667
MMPLL,2, 30.500000, 51.666667
MMPLL,3, 30.500000, 51.333333
MMPLL,4, 30.000000, 51.333333
MM1B,16.892146
Other Grid Setup
GRGRID,No,2 Km,No,16711680,255,No Labels,0,16777215,8,1,Yes,No,No,x
MOP,Map Open Position,0,0
IWH,Map Image Width/Height,2242,2568
