OziExplorer Map Data File Version 2.2
M-35-24 Дерновичи
C:\strorry\Maps\Genshtab_1k\M-35-024.ozfx3
1 ,Map Code,
Pulkovo 1942 (1),WGS 84, 0.0000, 0.0000,WGS 84
Reserved 1
Reserved 2
Magnetic Variation,,,E
Map Projection,Transverse Mercator,PolyCal,No,AutoCalOnly,No,BSBUseWPX,No
Point01,xy, 87, 147,in, deg, 51, 40.0000,N, 29, 30.0000,E, grid, , , ,N
Point02,xy, 1112, 147,in, deg, 51, 40.0000,N, 29, 45.0000,E, grid, , , ,N
Point03,xy, 2136, 146,in, deg, 51, 40.0000,N, 30, 0.0000,E, grid, , , ,N
Point04,xy, 84, 1244,in, deg, 51, 30.0000,N, 29, 30.0000,E, grid, , , ,N
Point05,xy, 1113, 1242,in, deg, 51, 30.0000,N, 29, 45.0000,E, grid, , , ,N
Point06,xy, 2140, 1243,in, deg, 51, 30.0000,N, 30, 0.0000,E, grid, , , ,N
Point07,xy, 80, 2340,in, deg, 51, 20.0000,N, 29, 30.0000,E, grid, , , ,N
Point08,xy, 1112, 2340,in, deg, 51, 20.0000,N, 29, 45.0000,E, grid, , , ,N
Point09,xy, 2144, 2340,in, deg, 51, 20.0000,N, 30, 0.0000,E, grid, , , ,N
Point10,xy, , ,in, deg, , ,N, , ,E, grid, , , ,N
Point11,xy, , ,in, deg, , ,N, , ,E, grid, , , ,N
Point12,xy, , ,in, deg, , ,N, , ,E, grid, , , ,N
Point13,xy, , ,in, deg, , ,N, , ,E, grid, , , ,N
Point14,xy, , ,in, deg, , ,N, , ,E, grid, , , ,N
Point15,xy, , ,in, deg, , ,N, , ,E, grid, , , ,N
Point16,xy, , ,in, deg, , ,N, , ,E, grid, , , ,N
Point17,xy, , ,in, deg, , ,N, , ,E, grid, , , ,N
Point18,xy, , ,in, deg, , ,N, , ,E, grid, , , ,N
Point19,xy, , ,in, deg, , ,N, , ,E, grid, , , ,N
Point20,xy, , ,in, deg, , ,N, , ,E, grid, , , ,N
Point21,xy, , ,in, deg, , ,N, , ,E, grid, , , ,N
Point22,xy, , ,in, deg, , ,N, , ,E, grid, , , ,N
Point23,xy, , ,in, deg, , ,N, , ,E, grid, , , ,N
Point24,xy, , ,in, deg, , ,N, , ,E, grid, , , ,N
Point25,xy, , ,in, deg, , ,N, , ,E, grid, , , ,N
Point26,xy, , ,in, deg, , ,N, , ,E, grid, , , ,N
Point27,xy, , ,in, deg, , ,N, , ,E, grid, , , ,N
Point28,xy, , ,in, deg, , ,N, , ,E, grid, , , ,N
Point29,xy, , ,in, deg, , ,N, , ,E, grid, , , ,N
Point30,xy, , ,in, deg, , ,N, , ,E, grid, , , ,N
Projection Setup, 0.000000000, 27.000000000, 1.000000000, 5500000.00, 0.00,,,,,
Map Feature = MF ; Map Comment = MC These follow if they exist
Track File = TF These follow if they exist
Moving Map Parameters = MM? These follow if they exist
MM0,Yes
MMPNUM,4
MMPXY,1,87,147
MMPXY,2,2136,146
MMPXY,3,2144,2340
MMPXY,4,80,2340
MMPLL,1, 29.500000, 51.666667
MMPLL,2, 30.000000, 51.666667
MMPLL,3, 30.000000, 51.333333
MMPLL,4, 29.500000, 51.333333
MM1B,16.872412
Other Grid Setup
GRGRID,No,2 Km,No,16711680,255,No Labels,0,16777215,8,1,Yes,No,No,x
MOP,Map Open Position,0,0
IWH,Map Image Width/Height,2221,2570
