OziExplorer Map Data File Version 2.2
M-35-012 Хойники
C:\strorry\Maps\Genshtab_1k\m-35-012.ozfx3
1 ,Map Code,
Pulkovo 1942 (1),WGS 84, 0.0000, 0.0000,WGS 84
Reserved 1
Reserved 2
Magnetic Variation,,,E
Map Projection,Transverse Mercator,PolyCal,No,AutoCalOnly,No,BSBUseWPX,No
Point01,xy, 158, 251,in, deg, 52, 0.0000,N, 29, 30.0000,E, grid, , , ,N
Point02,xy, 4212, 253,in, deg, 52, 0.0000,N, 30, 0.0000,E, grid, , , ,N
Point03,xy, 4224, 4631,in, deg, 51, 40.0000,N, 30, 0.0000,E, grid, , , ,N
Point04,xy, 140, 4625,in, deg, 51, 40.0000,N, 29, 30.0000,E, grid, , , ,N
Point05,xy, 2183, 2445,in, deg, 51, 50.0000,N, 29, 45.0000,E, grid, , , ,N
Point06,xy, 2180, 256,in, deg, 52, 0.0000,N, 29, 45.0000,E, grid, , , ,N
Point07,xy, 150, 2438,in, deg, 51, 50.0000,N, 29, 30.0000,E, grid, , , ,N
Point08,xy, 4220, 2446,in, deg, 51, 50.0000,N, 30, 0.0000,E, grid, , , ,N
Point09,xy, 2179, 4631,in, deg, 51, 40.0000,N, 29, 45.0000,E, grid, , , ,N
Point10,xy, , ,in, deg, , ,N, , ,W, grid, , , ,N
Point11,xy, , ,in, deg, , ,N, , ,W, grid, , , ,N
Point12,xy, , ,in, deg, , ,N, , ,W, grid, , , ,N
Point13,xy, , ,in, deg, , ,N, , ,W, grid, , , ,N
Point14,xy, , ,in, deg, , ,N, , ,W, grid, , , ,N
Point15,xy, , ,in, deg, , ,N, , ,W, grid, , , ,N
Point16,xy, , ,in, deg, , ,N, , ,W, grid, , , ,N
Point17,xy, , ,in, deg, , ,N, , ,W, grid, , , ,N
Point18,xy, , ,in, deg, , ,N, , ,W, grid, , , ,N
Point19,xy, , ,in, deg, , ,N, , ,W, grid, , , ,N
Point20,xy, , ,in, deg, , ,N, , ,W, grid, , , ,N
Point21,xy, , ,in, deg, , ,N, , ,W, grid, , , ,N
Point22,xy, , ,in, deg, , ,N, , ,W, grid, , , ,N
Point23,xy, , ,in, deg, , ,N, , ,W, grid, , , ,N
Point24,xy, , ,in, deg, , ,N, , ,W, grid, , , ,N
Point25,xy, , ,in, deg, , ,N, , ,W, grid, , , ,N
Point26,xy, , ,in, deg, , ,N, , ,W, grid, , , ,N
Point27,xy, , ,in, deg, , ,N, , ,W, grid, , , ,N
Point28,xy, , ,in, deg, , ,N, , ,W, grid, , , ,N
Point29,xy, , ,in, deg, , ,N, , ,W, grid, , , ,N
Point30,xy, , ,in, deg, , ,N, , ,W, grid, , , ,N
Projection Setup, 0.000000000, 27.000000000, 1.000000000, 5500000.00, 0.00,,,,,
Map Feature = MF ; Map Comment = MC These follow if they exist
Track File = TF These follow if they exist
Moving Map Parameters = MM? These follow if they exist
MM0,Yes
MMPNUM,4
MMPXY,1,158,251
MMPXY,2,4212,251
MMPXY,3,4224,4630
MMPXY,4,138,4625
MMPLL,1,29.500135,51.999946
MMPLL,2,30.000100,52.000324
MMPLL,3,30.000013,51.666765
MMPLL,4,29.499812,51.666710
MM1B,8.463783
MOP,Map Open Position,0,0
IWH,Map Image Width/Height,4373,4855
