OziExplorer Map Data File Version 2.2
M-35-010 Буйновичи
C:\strorry\Maps\Genshtab_1k\m-35-010.ozfx3
1 ,Map Code,
Pulkovo 1942 (1),WGS 84, 0.0000, 0.0000,WGS 84
Reserved 1
Reserved 2
Magnetic Variation,,,E
Map Projection,Transverse Mercator,PolyCal,No,AutoCalOnly,No,BSBUseWPX,No
Point01,xy, 162, 273,in, deg, 52, 0.0000,N, 28, 30.0000,E, grid, , , ,N
Point02,xy, 4216, 272,in, deg, 52, 0.0000,N, 29, 0.0000,E, grid, , , ,N
Point03,xy, 4231, 4655,in, deg, 51, 40.0000,N, 29, 0.0000,E, grid, , , ,N
Point04,xy, 147, 4657,in, deg, 51, 40.0000,N, 28, 30.0000,E, grid, , , ,N
Point05,xy, 2187, 2464,in, deg, 51, 50.0000,N, 28, 45.0000,E, grid, , , ,N
Point06,xy, 2188, 276,in, deg, 52, 0.0000,N, 28, 45.0000,E, grid, , , ,N
Point07,xy, 154, 2460,in, deg, 51, 50.0000,N, 28, 30.0000,E, grid, , , ,N
Point08,xy, 4223, 2463,in, deg, 51, 50.0000,N, 29, 0.0000,E, grid, , , ,N
Point09,xy, 2188, 4658,in, deg, 51, 40.0000,N, 28, 45.0000,E, grid, , , ,N
Point10,xy, , ,in, deg, , ,N, , ,W, grid, , , ,N
Point11,xy, , ,in, deg, , ,N, , ,W, grid, , , ,N
Point12,xy, , ,in, deg, , ,N, , ,W, grid, , , ,N
Point13,xy, , ,in, deg, , ,N, , ,W, grid, , , ,N
Point14,xy, , ,in, deg, , ,N, , ,W, grid, , , ,N
Point15,xy, , ,in, deg, , ,N, , ,W, grid, , , ,N
Point16,xy, , ,in, deg, , ,N, , ,W, grid, , , ,N
Point17,xy, , ,in, deg, , ,N, , ,W, grid, , , ,N
Point18,xy, , ,in, deg, , ,N, , ,W, grid, , , ,N
Point19,xy, , ,in, deg, , ,N, , ,W, grid, , , ,N
Point20,xy, , ,in, deg, , ,N, , ,W, grid, , , ,N
Point21,xy, , ,in, deg, , ,N, , ,W, grid, , , ,N
Point22,xy, , ,in, deg, , ,N, , ,W, grid, , , ,N
Point23,xy, , ,in, deg, , ,N, , ,W, grid, , , ,N
Point24,xy, , ,in, deg, , ,N, , ,W, grid, , , ,N
Point25,xy, , ,in, deg, , ,N, , ,W, grid, , , ,N
Point26,xy, , ,in, deg, , ,N, , ,W, grid, , , ,N
Point27,xy, , ,in, deg, , ,N, , ,W, grid, , , ,N
Point28,xy, , ,in, deg, , ,N, , ,W, grid, , , ,N
Point29,xy, , ,in, deg, , ,N, , ,W, grid, , , ,N
Point30,xy, , ,in, deg, , ,N, , ,W, grid, , , ,N
Projection Setup, 0.000000000, 27.000000000, 1.000000000, 5500000.00, 0.00,,,,,
Map Feature = MF ; Map Comment = MC These follow if they exist
Track File = TF These follow if they exist
Moving Map Parameters = MM? These follow if they exist
MM0,Yes
MMPNUM,4
MMPXY,1,162,273
MMPXY,2,4217,272
MMPXY,3,4230,4655
MMPXY,4,146,4657
MMPLL,1, 28.500067, 51.999898
MMPLL,2, 29.000194, 51.999957
MMPLL,3, 28.999945, 51.666641
MMPLL,4, 28.499948, 51.666471
MM1B,8.466273
MOP,Map Open Position,0,0
IWH,Map Image Width/Height,4390,4894
