OziExplorer Map Data File Version 2.2
M-35-5 Заречное
C:\strorry\Maps\Genshtab_1k\M-35-005.ozfx3
1 ,Map Code,
Pulkovo 1942 (1),WGS 84, 0.0000, 0.0000,WGS 84
Reserved 1
Reserved 2
Magnetic Variation,,,E
Map Projection,Transverse Mercator,PolyCal,No,AutoCalOnly,No,BSBUseWPX,No
Point01,xy, 87, 138,in, deg, 52, 0.0000,N, 26, 0.0000,E, grid, , , ,N
Point02,xy, 1106, 138,in, deg, 52, 0.0000,N, 26, 15.0000,E, grid, , , ,N
Point03,xy, 2125, 137,in, deg, 52, 0.0000,N, 26, 30.0000,E, grid, , , ,N
Point04,xy, 85, 1234,in, deg, 51, 50.0000,N, 26, 0.0000,E, grid, , , ,N
Point05,xy, 1106, 1235,in, deg, 51, 50.0000,N, 26, 15.0000,E, grid, , , ,N
Point06,xy, 2128, 1233,in, deg, 51, 50.0000,N, 26, 30.0000,E, grid, , , ,N
Point07,xy, 82, 2329,in, deg, 51, 40.0000,N, 26, 0.0000,E, grid, , , ,N
Point08,xy, 1107, 2329,in, deg, 51, 40.0000,N, 26, 15.0000,E, grid, , , ,N
Point09,xy, 2131, 2329,in, deg, 51, 40.0000,N, 26, 30.0000,E, grid, , , ,N
Point10,xy, , ,in, deg, , ,N, , ,E, grid, , , ,N
Point11,xy, , ,in, deg, , ,N, , ,E, grid, , , ,N
Point12,xy, , ,in, deg, , ,N, , ,E, grid, , , ,N
Point13,xy, , ,in, deg, , ,N, , ,E, grid, , , ,N
Point14,xy, , ,in, deg, , ,N, , ,E, grid, , , ,N
Point15,xy, , ,in, deg, , ,N, , ,E, grid, , , ,N
Point16,xy, , ,in, deg, , ,N, , ,E, grid, , , ,N
Point17,xy, , ,in, deg, , ,N, , ,E, grid, , , ,N
Point18,xy, , ,in, deg, , ,N, , ,E, grid, , , ,N
Point19,xy, , ,in, deg, , ,N, , ,E, grid, , , ,N
Point20,xy, , ,in, deg, , ,N, , ,E, grid, , , ,N
Point21,xy, , ,in, deg, , ,N, , ,E, grid, , , ,N
Point22,xy, , ,in, deg, , ,N, , ,E, grid, , , ,N
Point23,xy, , ,in, deg, , ,N, , ,E, grid, , , ,N
Point24,xy, , ,in, deg, , ,N, , ,E, grid, , , ,N
Point25,xy, , ,in, deg, , ,N, , ,E, grid, , , ,N
Point26,xy, , ,in, deg, , ,N, , ,E, grid, , , ,N
Point27,xy, , ,in, deg, , ,N, , ,E, grid, , , ,N
Point28,xy, , ,in, deg, , ,N, , ,E, grid, , , ,N
Point29,xy, , ,in, deg, , ,N, , ,E, grid, , , ,N
Point30,xy, , ,in, deg, , ,N, , ,E, grid, , , ,N
Projection Setup, 0.000000000, 27.000000000, 1.000000000, 5500000.00, 0.00,,,,,
Map Feature = MF ; Map Comment = MC These follow if they exist
Track File = TF These follow if they exist
Moving Map Parameters = MM? These follow if they exist
MM0,Yes
MMPNUM,4
MMPXY,1,87,138
MMPXY,2,2125,137
MMPXY,3,2131,2329
MMPXY,4,82,2329
MMPLL,1, 26.000000, 52.000000
MMPLL,2, 26.500000, 52.000000
MMPLL,3, 26.500000, 51.666667
MMPLL,4, 26.000000, 51.666667
MM1B,16.859478
Other Grid Setup
GRGRID,No,2 Km,No,16711680,255,No Labels,0,16777215,8,1,Yes,No,No,x
MOP,Map Open Position,0,0
IWH,Map Image Width/Height,2212,2550
